Name | Last modified | Size | Description | |
---|---|---|---|---|
Parent Directory | - | |||
install-summary.dcf | 12-Jun-2024 03:43 | 277 | ||
install-out.txt | 12-Jun-2024 03:43 | 1.0K | ||
buildsrc-out.txt | 12-Jun-2024 03:43 | 895 | ||
buildsrc-summary.dcf | 12-Jun-2024 03:43 | 440 | ||
checksrc-out.txt | 12-Jun-2024 03:43 | 4.4K | ||
checksrc-summary.dcf | 12-Jun-2024 03:43 | 460 | ||
buildbin-summary.dcf | 12-Jun-2024 03:43 | 554 | ||
buildbin-out.txt | 12-Jun-2024 03:43 | 1.2K | ||