Name | Last modified | Size | Description | |
---|---|---|---|---|
Parent Directory | - | |||
install-summary.dcf | 13-Jul-2024 06:42 | 277 | ||
install-out.txt | 13-Jul-2024 06:42 | 1.0K | ||
checksrc-summary.dcf | 13-Jul-2024 06:42 | 460 | ||
checksrc-out.txt | 13-Jul-2024 06:42 | 4.4K | ||
buildsrc-summary.dcf | 13-Jul-2024 06:42 | 440 | ||
buildsrc-out.txt | 13-Jul-2024 06:42 | 895 | ||
buildbin-summary.dcf | 13-Jul-2024 06:42 | 554 | ||
buildbin-out.txt | 13-Jul-2024 06:42 | 1.2K | ||