Index of /checkResults/release/bioc-LATEST/IONiseR/raw-results
Name
Last modified
Size
Description
Parent Directory
-
lconway/
23-May-2024 00:36
-
palomino3/
23-May-2024 00:35
-
nebbiolo1/
23-May-2024 00:34
-
info.dcf
23-May-2024 00:34
268
kunpeng2/
10-May-2024 00:40
-
merida1/
05-Mar-2024 01:39
-