Name | Last modified | Size | Description | |
---|---|---|---|---|
Parent Directory | - | |||
checksrc-out.txt | 29-Jun-2024 06:41 | 3.2K | ||
buildbin-out.txt | 29-Jun-2024 06:41 | 1.1K | ||
install-out.txt | 29-Jun-2024 06:41 | 959 | ||
buildsrc-out.txt | 29-Jun-2024 06:41 | 893 | ||
buildbin-summary.dcf | 29-Jun-2024 06:41 | 506 | ||
buildsrc-summary.dcf | 29-Jun-2024 06:41 | 445 | ||
checksrc-summary.dcf | 29-Jun-2024 06:41 | 440 | ||
install-summary.dcf | 29-Jun-2024 06:41 | 265 | ||