Name | Last modified | Size | Description | |
---|---|---|---|---|
Parent Directory | - | |||
checksrc-summary.dcf | 27-Jul-2024 06:38 | 407 | ||
checksrc-out.txt | 27-Jul-2024 06:38 | 3.2K | ||
buildsrc-out.txt | 27-Jul-2024 06:38 | 864 | ||
buildsrc-summary.dcf | 27-Jul-2024 06:38 | 411 | ||
install-summary.dcf | 27-Jul-2024 06:38 | 255 | ||
install-out.txt | 27-Jul-2024 06:38 | 949 | ||