Name | Last modified | Size | Description | |
---|---|---|---|---|
Parent Directory | - | |||
checksrc-out.txt | 27-Jul-2024 06:42 | 3.3K | ||
buildbin-out.txt | 27-Jul-2024 06:42 | 1.1K | ||
install-out.txt | 27-Jul-2024 06:42 | 1.0K | ||
buildsrc-out.txt | 27-Jul-2024 06:42 | 874 | ||
buildbin-summary.dcf | 27-Jul-2024 06:42 | 520 | ||
checksrc-summary.dcf | 27-Jul-2024 06:42 | 437 | ||
buildsrc-summary.dcf | 27-Jul-2024 06:42 | 421 | ||
install-summary.dcf | 27-Jul-2024 06:42 | 265 | ||