Back to Multiple platform build/check report for BioC 3.19:   simplified   long
ABCDEFGH[I]JKLMNOPQRSTUVWXYZ

This page was generated on 2024-07-16 17:42 -0400 (Tue, 16 Jul 2024).

HostnameOSArch (*)R versionInstalled pkgs
nebbiolo1Linux (Ubuntu 22.04.3 LTS)x86_644.4.1 (2024-06-14) -- "Race for Your Life" 4742
palomino7Windows Server 2022 Datacenterx644.4.1 (2024-06-14 ucrt) -- "Race for Your Life" 4484
merida1macOS 12.7.4 Montereyx86_644.4.1 (2024-06-14) -- "Race for Your Life" 4513
kjohnson1macOS 13.6.6 Venturaarm644.4.1 (2024-06-14) -- "Race for Your Life" 4462
Click on any hostname to see more info about the system (e.g. compilers)      (*) as reported by 'uname -p', except on Windows and Mac OS X

Package 1041/2300HostnameOS / ArchINSTALLBUILDCHECKBUILD BIN
INTACT 1.4.0  (landing page)
Jeffrey Okamoto
Snapshot Date: 2024-07-14 14:00 -0400 (Sun, 14 Jul 2024)
git_url: https://git.bioconductor.org/packages/INTACT
git_branch: RELEASE_3_19
git_last_commit: af183c3
git_last_commit_date: 2024-04-30 11:46:49 -0400 (Tue, 30 Apr 2024)
nebbiolo1Linux (Ubuntu 22.04.3 LTS) / x86_64  OK    OK    OK  UNNEEDED, same version is already published
palomino7Windows Server 2022 Datacenter / x64  OK    OK    OK    OK  
merida1macOS 12.7.4 Monterey / x86_64  OK    OK    OK    OK  UNNEEDED, same version is already published
kjohnson1macOS 13.6.6 Ventura / arm64  OK    OK    OK    OK  UNNEEDED, same version is already published


CHECK results for INTACT on kjohnson1

To the developers/maintainers of the INTACT package:
- Allow up to 24 hours (and sometimes 48 hours) for your latest push to git@git.bioconductor.org:packages/INTACT.git to reflect on this report. See Troubleshooting Build Report for more information.
- Use the following Renviron settings to reproduce errors and warnings.
- If 'R CMD check' started to fail recently on the Linux builder(s) over a missing dependency, add the missing dependency to 'Suggests:' in your DESCRIPTION file. See Renviron.bioc for more information.

raw results


Summary

Package: INTACT
Version: 1.4.0
Command: /Library/Frameworks/R.framework/Resources/bin/R CMD check --install=check:INTACT.install-out.txt --library=/Library/Frameworks/R.framework/Resources/library --no-vignettes --timings INTACT_1.4.0.tar.gz
StartedAt: 2024-07-15 22:53:24 -0400 (Mon, 15 Jul 2024)
EndedAt: 2024-07-15 22:54:12 -0400 (Mon, 15 Jul 2024)
EllapsedTime: 48.4 seconds
RetCode: 0
Status:   OK  
CheckDir: INTACT.Rcheck
Warnings: 0

Command output

##############################################################################
##############################################################################
###
### Running command:
###
###   /Library/Frameworks/R.framework/Resources/bin/R CMD check --install=check:INTACT.install-out.txt --library=/Library/Frameworks/R.framework/Resources/library --no-vignettes --timings INTACT_1.4.0.tar.gz
###
##############################################################################
##############################################################################


* using log directory ‘/Users/biocbuild/bbs-3.19-bioc/meat/INTACT.Rcheck’
* using R version 4.4.1 (2024-06-14)
* using platform: aarch64-apple-darwin20
* R was compiled by
    Apple clang version 14.0.0 (clang-1400.0.29.202)
    GNU Fortran (GCC) 12.2.0
* running under: macOS Ventura 13.6.6
* using session charset: UTF-8
* using option ‘--no-vignettes’
* checking for file ‘INTACT/DESCRIPTION’ ... OK
* checking extension type ... Package
* this is package ‘INTACT’ version ‘1.4.0’
* package encoding: UTF-8
* checking package namespace information ... OK
* checking package dependencies ... OK
* checking if this is a source package ... OK
* checking if there is a namespace ... OK
* checking for hidden files and directories ... OK
* checking for portable file names ... OK
* checking for sufficient/correct file permissions ... OK
* checking whether package ‘INTACT’ can be installed ... OK
* checking installed package size ... OK
* checking package directory ... OK
* checking ‘build’ directory ... OK
* checking DESCRIPTION meta-information ... OK
* checking top-level files ... OK
* checking for left-over files ... OK
* checking index information ... OK
* checking package subdirectories ... OK
* checking code files for non-ASCII characters ... OK
* checking R files for syntax errors ... OK
* checking whether the package can be loaded ... OK
* checking whether the package can be loaded with stated dependencies ... OK
* checking whether the package can be unloaded cleanly ... OK
* checking whether the namespace can be loaded with stated dependencies ... OK
* checking whether the namespace can be unloaded cleanly ... OK
* checking dependencies in R code ... OK
* checking S3 generic/method consistency ... OK
* checking replacement functions ... OK
* checking foreign function calls ... OK
* checking R code for possible problems ... OK
* checking Rd files ... OK
* checking Rd metadata ... OK
* checking Rd cross-references ... OK
* checking for missing documentation entries ... OK
* checking for code/documentation mismatches ... OK
* checking Rd \usage sections ... OK
* checking Rd contents ... OK
* checking for unstated dependencies in examples ... OK
* checking contents of ‘data’ directory ... OK
* checking data for non-ASCII characters ... OK
* checking data for ASCII and uncompressed saves ... OK
* checking files in ‘vignettes’ ... OK
* checking examples ... OK
* checking for unstated dependencies in ‘tests’ ... OK
* checking tests ...
  Running ‘testthat.R’
 OK
* checking for unstated dependencies in vignettes ... OK
* checking package vignettes ... OK
* checking running R code from vignettes ... SKIPPED
* checking re-building of vignette outputs ... SKIPPED
* checking PDF version of manual ... OK
* DONE

Status: OK


Installation output

INTACT.Rcheck/00install.out

##############################################################################
##############################################################################
###
### Running command:
###
###   /Library/Frameworks/R.framework/Resources/bin/R CMD INSTALL INTACT
###
##############################################################################
##############################################################################


* installing to library ‘/Library/Frameworks/R.framework/Versions/4.4-arm64/Resources/library’
* installing *source* package ‘INTACT’ ...
** using staged installation
** R
** data
** byte-compile and prepare package for lazy loading
** help
*** installing help indices
** building package indices
** installing vignettes
** testing if installed package can be loaded from temporary location
** testing if installed package can be loaded from final location
** testing if installed package keeps a record of temporary installation path
* DONE (INTACT)

Tests output

INTACT.Rcheck/tests/testthat.Rout


R version 4.4.1 (2024-06-14) -- "Race for Your Life"
Copyright (C) 2024 The R Foundation for Statistical Computing
Platform: aarch64-apple-darwin20

R is free software and comes with ABSOLUTELY NO WARRANTY.
You are welcome to redistribute it under certain conditions.
Type 'license()' or 'licence()' for distribution details.

R is a collaborative project with many contributors.
Type 'contributors()' for more information and
'citation()' on how to cite R or R packages in publications.

Type 'demo()' for some demos, 'help()' for on-line help, or
'help.start()' for an HTML browser interface to help.
Type 'q()' to quit R.

> # This file is part of the standard setup for testthat.
> # It is recommended that you do not modify it.
> #
> # Where should you do additional test configuration?
> # Learn more about the roles of various files in:
> # * https://r-pkgs.org/tests.html
> # * https://testthat.r-lib.org/reference/test_package.html#special-files
> 
> library(testthat)
> library(INTACT)

Attaching package: 'INTACT'

The following object is masked from 'package:stats':

    step

> 
> test_check("INTACT")
[ FAIL 0 | WARN 0 | SKIP 0 | PASS 22 ]
> 
> proc.time()
   user  system elapsed 
  3.154   0.258   3.401 

Example timings

INTACT.Rcheck/INTACT-Ex.timings

nameusersystemelapsed
chisq_sumstat0.3540.0190.373
expit0.0000.0010.000
exprwt_sumstats0.0010.0020.002
fdr_rst0.0180.0160.033
gene_set_list0.0020.0010.004
hybrid0.0010.0000.000
intact0.0330.0290.064
intactGSE0.1220.0140.136
ld_sumstats0.3070.0090.319
linear0.0000.0000.001
multi_intact0.4840.0380.523
multi_simdat0.0040.0020.005
protwt_sumstats0.0010.0010.002
simdat0.0030.0010.004
step0.0000.0000.001
z_sumstats0.0010.0010.002