Index of /checkResults/release/bioc-LATEST/INPower/raw-results/merida1

[ICO]NameLast modifiedSizeDescription

[DIR]Parent Directory  -  
[TXT]buildbin-out.txt19-Jun-2024 07:00 1.1K 
[   ]buildbin-summary.dcf19-Jun-2024 07:00 529  
[TXT]buildsrc-out.txt19-Jun-2024 07:00 816  
[   ]buildsrc-summary.dcf19-Jun-2024 07:00 427  
[TXT]checksrc-out.txt19-Jun-2024 07:00 3.9K 
[   ]checksrc-summary.dcf19-Jun-2024 07:00 443  
[TXT]install-out.txt19-Jun-2024 07:00 1.0K 
[   ]install-summary.dcf19-Jun-2024 07:00 268