Index of /checkResults/release/bioc-LATEST/INPower/raw-results/kunpeng2

[ICO]NameLast modifiedSizeDescription

[DIR]Parent Directory  -  
[   ]install-summary.dcf10-May-2024 00:40 269  
[TXT]install-out.txt10-May-2024 00:40 1.0K 
[   ]checksrc-summary.dcf10-May-2024 00:40 450  
[TXT]checksrc-out.txt10-May-2024 00:40 3.9K 
[   ]buildsrc-summary.dcf10-May-2024 00:40 427  
[TXT]buildsrc-out.txt10-May-2024 00:40 817