Name | Last modified | Size | Description | |
---|---|---|---|---|
Parent Directory | - | |||
install-summary.dcf | 17-Jul-2024 06:39 | 276 | ||
install-out.txt | 17-Jul-2024 06:39 | 1.0K | ||
checksrc-summary.dcf | 17-Jul-2024 06:39 | 462 | ||
checksrc-out.txt | 17-Jul-2024 06:39 | 5.7K | ||
buildsrc-summary.dcf | 17-Jul-2024 06:39 | 468 | ||
buildsrc-out.txt | 17-Jul-2024 06:39 | 919 | ||
buildbin-summary.dcf | 17-Jul-2024 06:39 | 539 | ||
buildbin-out.txt | 17-Jul-2024 06:39 | 1.1K | ||