Name | Last modified | Size | Description | |
---|---|---|---|---|
Parent Directory | - | |||
checksrc-out.txt | 17-Jul-2024 06:38 | 5.7K | ||
install-out.txt | 17-Jul-2024 06:38 | 964 | ||
buildsrc-out.txt | 17-Jul-2024 06:38 | 885 | ||
checksrc-summary.dcf | 17-Jul-2024 06:38 | 429 | ||
buildsrc-summary.dcf | 17-Jul-2024 06:38 | 427 | ||
install-summary.dcf | 17-Jul-2024 06:38 | 266 | ||