Name | Last modified | Size | Description | |
---|---|---|---|---|
Parent Directory | - | |||
install-summary.dcf | 17-Jul-2024 06:41 | 277 | ||
install-out.txt | 17-Jul-2024 06:41 | 1.0K | ||
checksrc-summary.dcf | 17-Jul-2024 06:41 | 459 | ||
checksrc-out.txt | 17-Jul-2024 06:41 | 5.8K | ||
buildsrc-summary.dcf | 17-Jul-2024 06:41 | 439 | ||
buildsrc-out.txt | 17-Jul-2024 06:41 | 895 | ||
buildbin-summary.dcf | 17-Jul-2024 06:41 | 554 | ||
buildbin-out.txt | 17-Jul-2024 06:41 | 1.2K | ||