Name | Last modified | Size | Description | |
---|---|---|---|---|
Parent Directory | - | |||
install-summary.dcf | 12-Jun-2024 03:43 | 277 | ||
install-out.txt | 12-Jun-2024 03:43 | 1.0K | ||
checksrc-summary.dcf | 12-Jun-2024 03:43 | 459 | ||
checksrc-out.txt | 12-Jun-2024 03:43 | 5.8K | ||
buildsrc-summary.dcf | 12-Jun-2024 03:43 | 439 | ||
buildsrc-out.txt | 12-Jun-2024 03:43 | 895 | ||
buildbin-summary.dcf | 12-Jun-2024 03:43 | 552 | ||
buildbin-out.txt | 12-Jun-2024 03:43 | 1.2K | ||