Name | Last modified | Size | Description | |
---|---|---|---|---|
Parent Directory | - | |||
install-summary.dcf | 17-Jul-2024 06:38 | 256 | ||
checksrc-summary.dcf | 17-Jul-2024 06:38 | 408 | ||
buildsrc-summary.dcf | 17-Jul-2024 06:38 | 412 | ||
install-out.txt | 17-Jul-2024 06:38 | 829 | ||
buildsrc-out.txt | 17-Jul-2024 06:38 | 841 | ||
checksrc-out.txt | 17-Jul-2024 06:38 | 3.8K | ||