Index of /checkResults/release/bioc-LATEST/HiCool/raw-results/kunpeng2
Name
Last modified
Size
Description
Parent Directory
-
buildsrc-out.txt
10-May-2024 00:40
4.6K
buildsrc-summary.dcf
10-May-2024 00:40
342
install-out.txt
10-May-2024 00:40
851
install-summary.dcf
10-May-2024 00:40
267