Index of /checkResults/release/bioc-LATEST/HiCool/raw-results/kjohnson3
Name
Last modified
Size
Description
Parent Directory
-
install-summary.dcf
12-Jun-2024 03:43
266
buildsrc-summary.dcf
12-Jun-2024 03:43
341
install-out.txt
12-Jun-2024 03:43
863
buildsrc-out.txt
12-Jun-2024 03:43
2.1K