Index of /checkResults/release/bioc-LATEST/HiCool/raw-results/kjohnson1
Name
Last modified
Size
Description
Parent Directory
-
install-summary.dcf
17-Jul-2024 06:42
266
install-out.txt
17-Jul-2024 06:42
863
buildsrc-summary.dcf
17-Jul-2024 06:42
341
buildsrc-out.txt
17-Jul-2024 06:42
2.1K