Name | Last modified | Size | Description | |
---|---|---|---|---|
Parent Directory | - | |||
buildbin-out.txt | 15-Jun-2024 03:38 | 1.1K | ||
buildbin-summary.dcf | 15-Jun-2024 03:38 | 531 | ||
buildsrc-out.txt | 15-Jun-2024 03:38 | 890 | ||
buildsrc-summary.dcf | 15-Jun-2024 03:38 | 463 | ||
checksrc-out.txt | 15-Jun-2024 03:38 | 3.7K | ||
checksrc-summary.dcf | 15-Jun-2024 03:38 | 458 | ||
install-out.txt | 15-Jun-2024 03:38 | 971 | ||
install-summary.dcf | 15-Jun-2024 03:38 | 273 | ||