Back to Multiple platform build/check report for BioC 3.14
ABCDEFG[H]IJKLMNOPQRSTUVWXYZ

This page was generated on 2021-11-26 15:05:52 -0500 (Fri, 26 Nov 2021).

BUILD results for HiCcompare on machv2

To the developers/maintainers of the HiCcompare package:
- Please allow up to 24 hours (and sometimes 48 hours) for your latest push to git@git.bioconductor.org:packages/HiCcompare.git to
reflect on this report. See How and When does the builder pull? When will my changes propagate? here for more information.
- Make sure to use the following settings in order to reproduce any error or warning you see on this page.

raw results

Package 867/2083HostnameOS / ArchINSTALLBUILDCHECKBUILD BIN
HiCcompare 1.16.0  (landing page)
John Stansfield , Mikhail Dozmorov
Snapshot Date: 2021-11-25 04:15:05 -0500 (Thu, 25 Nov 2021)
git_url: https://git.bioconductor.org/packages/HiCcompare
git_branch: RELEASE_3_14
git_last_commit: dafc05f
git_last_commit_date: 2021-10-26 12:36:44 -0500 (Tue, 26 Oct 2021)
nebbiolo2Linux (Ubuntu 20.04.3 LTS) / x86_64  OK    OK    WARNINGS  UNNEEDED, same version is already published
tokay2Windows Server 2012 R2 Standard / x64  OK    OK    WARNINGS    OK  UNNEEDED, same version is already published
machv2macOS 10.14.6 Mojave / x86_64  OK    OK    WARNINGS    OK  UNNEEDED, same version is already published

Summary

Package: HiCcompare
Version: 1.16.0
Command: /Library/Frameworks/R.framework/Resources/bin/R CMD build --keep-empty-dirs --no-resave-data HiCcompare
StartedAt: 2021-11-25 09:47:46 -0500 (Thu, 25 Nov 2021)
EndedAt: 2021-11-25 09:48:53 -0500 (Thu, 25 Nov 2021)
EllapsedTime: 66.6 seconds
RetCode: 0
Status:   OK  
PackageFile: HiCcompare_1.16.0.tar.gz
PackageFileSize: 3.528 MiB

Command output

##############################################################################
##############################################################################
###
### Running command:
###
###   /Library/Frameworks/R.framework/Resources/bin/R CMD build --keep-empty-dirs --no-resave-data HiCcompare
###
##############################################################################
##############################################################################


* checking for file ‘HiCcompare/DESCRIPTION’ ... OK
* preparing ‘HiCcompare’:
* checking DESCRIPTION meta-information ... OK
* installing the package to build vignettes
* creating vignettes ... OK
* checking for LF line-endings in source and make files and shell scripts
* checking for empty or unneeded directories
* building ‘HiCcompare_1.16.0.tar.gz’