Back to Multiple platform build/check report for BioC 3.17:   simplified   long
ABCDEFG[H]IJKLMNOPQRSTUVWXYZ

This page was generated on 2023-09-30 11:36:19 -0400 (Sat, 30 Sep 2023).

HostnameOSArch (*)R versionInstalled pkgs
nebbiolo1Linux (Ubuntu 22.04.2 LTS)x86_644.3.1 (2023-06-16) -- "Beagle Scouts" 4626
palomino3Windows Server 2022 Datacenterx644.3.1 (2023-06-16 ucrt) -- "Beagle Scouts" 4379
merida1macOS 12.6.4 Montereyx86_644.3.1 (2023-06-16) -- "Beagle Scouts" 4395
Click on any hostname to see more info about the system (e.g. compilers)      (*) as reported by 'uname -p', except on Windows and Mac OS X

Package 928/2230HostnameOS / ArchINSTALLBUILDCHECKBUILD BIN
HiCDOC 1.2.0  (landing page)
Maign√© √Člise
Snapshot Date: 2023-09-29 14:00:14 -0400 (Fri, 29 Sep 2023)
git_url: https://git.bioconductor.org/packages/HiCDOC
git_branch: RELEASE_3_17
git_last_commit: b6ac9d9
git_last_commit_date: 2023-04-25 11:39:04 -0400 (Tue, 25 Apr 2023)
nebbiolo1Linux (Ubuntu 22.04.2 LTS) / x86_64  OK    OK    OK  UNNEEDED, same version is already published
palomino3Windows Server 2022 Datacenter / x64  OK    OK    OK    OK  UNNEEDED, same version is already published
merida1macOS 12.6.4 Monterey / x86_64  OK    OK    OK    OK  UNNEEDED, same version is already published

BUILD results for HiCDOC on palomino3


To the developers/maintainers of the HiCDOC package:
- Allow up to 24 hours (and sometimes 48 hours) for your latest push to git@git.bioconductor.org:packages/HiCDOC.git to reflect on this report. See Troubleshooting Build Report for more information.
- Use the following Renviron settings to reproduce errors and warnings.
- If 'R CMD check' started to fail recently on the Linux builder(s) over a missing dependency, add the missing dependency to 'Suggests:' in your DESCRIPTION file. See Renviron.bioc for more information.

raw results


Summary

Package: HiCDOC
Version: 1.2.0
Command: chmod a+r HiCDOC -R && F:\biocbuild\bbs-3.17-bioc\R\bin\R.exe CMD build --keep-empty-dirs --no-resave-data HiCDOC
StartedAt: 2023-09-29 19:46:26 -0400 (Fri, 29 Sep 2023)
EndedAt: 2023-09-29 19:49:08 -0400 (Fri, 29 Sep 2023)
EllapsedTime: 162.6 seconds
RetCode: 0
Status:   OK  
PackageFile: HiCDOC_1.2.0.tar.gz
PackageFileSize: 2.962 MiB

Command output

##############################################################################
##############################################################################
###
### Running command:
###
###   chmod a+r HiCDOC -R && F:\biocbuild\bbs-3.17-bioc\R\bin\R.exe CMD build --keep-empty-dirs --no-resave-data HiCDOC
###
##############################################################################
##############################################################################


* checking for file 'HiCDOC/DESCRIPTION' ... OK
* preparing 'HiCDOC':
* checking DESCRIPTION meta-information ... OK
* cleaning src
* installing the package to build vignettes
* creating vignettes ... OK
* cleaning src
* checking for LF line-endings in source and make files and shell scripts
* checking for empty or unneeded directories
* looking to see if a 'data/datalist' file should be added
* building 'HiCDOC_1.2.0.tar.gz'