Name | Last modified | Size | Description | |
---|---|---|---|---|
Parent Directory | - | |||
buildsrc-out.txt | 15-Jun-2024 03:37 | 842 | ||
buildsrc-summary.dcf | 15-Jun-2024 03:37 | 414 | ||
checksrc-out.txt | 15-Jun-2024 03:37 | 3.2K | ||
checksrc-summary.dcf | 15-Jun-2024 03:37 | 410 | ||
install-out.txt | 15-Jun-2024 03:37 | 949 | ||
install-summary.dcf | 15-Jun-2024 03:37 | 257 | ||