Index of /checkResults/release/bioc-LATEST/HelloRanges/raw-results/merida1

[ICO]NameLast modifiedSizeDescription

[DIR]Parent Directory  -  
[TXT]buildbin-out.txt07-Feb-2024 02:53 1.2K 
[   ]buildbin-summary.dcf07-Feb-2024 02:53 555  
[TXT]buildsrc-out.txt05-Mar-2024 01:39 4.5K 
[   ]buildsrc-summary.dcf05-Mar-2024 01:39 352  
[TXT]checksrc-out.txt07-Feb-2024 02:53 4.1K 
[   ]checksrc-summary.dcf07-Feb-2024 02:53 460  
[TXT]install-out.txt05-Mar-2024 01:39 1.0K 
[   ]install-summary.dcf05-Mar-2024 01:39 277