Index of /checkResults/release/bioc-LATEST/HTqPCR/raw-results/lconway
Name
Last modified
Size
Description
Parent Directory
-
install-summary.dcf
12-Jun-2024 03:42
267
install-out.txt
12-Jun-2024 03:42
1.0K
buildsrc-out.txt
12-Jun-2024 03:42
3.8K
buildsrc-summary.dcf
12-Jun-2024 03:42
341