Index of /checkResults/release/bioc-LATEST/HTSeqGenie/raw-results
Name
Last modified
Size
Description
Parent Directory
-
nebbiolo1/
19-May-2024 00:36
-
info.dcf
19-May-2024 00:35
276
kunpeng2/
10-May-2024 00:40
-