Index of /checkResults/release/bioc-LATEST/HTSeqGenie/raw-results
Name
Last modified
Size
Description
Parent Directory
-
info.dcf
21-Mar-2023 00:05
276
nebbiolo2/
21-Mar-2023 00:05
-