Name | Last modified | Size | Description | |
---|---|---|---|---|
Parent Directory | - | |||
lconway/ | 05-Jun-2024 00:36 | - | ||
palomino3/ | 05-Jun-2024 00:35 | - | ||
nebbiolo1/ | 05-Jun-2024 00:35 | - | ||
info.dcf | 05-Jun-2024 00:34 | 274 | ||
kjohnson3/ | 01-Jun-2024 06:03 | - | ||
kunpeng2/ | 10-May-2024 00:40 | - | ||
merida1/ | 05-Mar-2024 01:39 | - | ||