Back to Multiple platform build/check report for BioC 3.18:   simplified   long
ABCDEFG[H]IJKLMNOPQRSTUVWXYZ

This page was generated on 2024-03-29 11:36:01 -0400 (Fri, 29 Mar 2024).

HostnameOSArch (*)R versionInstalled pkgs
nebbiolo2Linux (Ubuntu 22.04.3 LTS)x86_644.3.3 (2024-02-29) -- "Angel Food Cake" 4669
palomino4Windows Server 2022 Datacenterx644.3.3 (2024-02-29 ucrt) -- "Angel Food Cake" 4404
merida1macOS 12.7.1 Montereyx86_644.3.3 (2024-02-29) -- "Angel Food Cake" 4427
Click on any hostname to see more info about the system (e.g. compilers)      (*) as reported by 'uname -p', except on Windows and Mac OS X

Package 947/2266HostnameOS / ArchINSTALLBUILDCHECKBUILD BIN
HIBAG 1.38.2  (landing page)
Xiuwen Zheng
Snapshot Date: 2024-03-27 14:05:05 -0400 (Wed, 27 Mar 2024)
git_url: https://git.bioconductor.org/packages/HIBAG
git_branch: RELEASE_3_18
git_last_commit: a1b52dd
git_last_commit_date: 2024-01-25 01:08:53 -0400 (Thu, 25 Jan 2024)
nebbiolo2Linux (Ubuntu 22.04.3 LTS) / x86_64  OK    OK    OK  UNNEEDED, same version is already published
palomino4Windows Server 2022 Datacenter / x64  OK    OK    OK    OK  UNNEEDED, same version is already published
merida1macOS 12.7.1 Monterey / x86_64  OK    OK    OK    OK  UNNEEDED, same version is already published
kjohnson1macOS 13.6.1 Ventura / arm64see weekly results here

INSTALL results for HIBAG on nebbiolo2


To the developers/maintainers of the HIBAG package:
- Allow up to 24 hours (and sometimes 48 hours) for your latest push to git@git.bioconductor.org:packages/HIBAG.git to reflect on this report. See Troubleshooting Build Report for more information.
- Use the following Renviron settings to reproduce errors and warnings.
- If 'R CMD check' started to fail recently on the Linux builder(s) over a missing dependency, add the missing dependency to 'Suggests:' in your DESCRIPTION file. See Renviron.bioc for more information.

raw results


Summary

Package: HIBAG
Version: 1.38.2
Command: /home/biocbuild/bbs-3.18-bioc/R/bin/R CMD INSTALL HIBAG
StartedAt: 2024-03-27 15:07:12 -0400 (Wed, 27 Mar 2024)
EndedAt: 2024-03-27 15:07:36 -0400 (Wed, 27 Mar 2024)
EllapsedTime: 24.0 seconds
RetCode: 0
Status:   OK  

Command output

##############################################################################
##############################################################################
###
### Running command:
###
###   /home/biocbuild/bbs-3.18-bioc/R/bin/R CMD INSTALL HIBAG
###
##############################################################################
##############################################################################


* installing to library ‘/home/biocbuild/bbs-3.18-bioc/R/site-library’
* installing *source* package ‘HIBAG’ ...
** using staged installation
** libs
using C compiler: ‘gcc (Ubuntu 11.4.0-1ubuntu1~22.04) 11.4.0’
using C++ compiler: ‘g++ (Ubuntu 11.4.0-1ubuntu1~22.04) 11.4.0’
using C++11
g++ -std=gnu++11 -I"/home/biocbuild/bbs-3.18-bioc/R/include" -DNDEBUG -I../inst/include -I'/home/biocbuild/bbs-3.18-bioc/R/site-library/RcppParallel/include' -I/usr/local/include    -fpic  -g -O2  -Wall -c HIBAG.cpp -o HIBAG.o
g++ -std=gnu++11 -I"/home/biocbuild/bbs-3.18-bioc/R/include" -DNDEBUG -I../inst/include -I'/home/biocbuild/bbs-3.18-bioc/R/site-library/RcppParallel/include' -I/usr/local/include    -fpic  -g -O2  -Wall -c LibHLA.cpp -o LibHLA.o
g++ -std=gnu++11 -I"/home/biocbuild/bbs-3.18-bioc/R/include" -DNDEBUG -I../inst/include -I'/home/biocbuild/bbs-3.18-bioc/R/site-library/RcppParallel/include' -I/usr/local/include    -fpic  -g -O2  -Wall -c LibHLA_ext_avx.cpp -o LibHLA_ext_avx.o
g++ -std=gnu++11 -I"/home/biocbuild/bbs-3.18-bioc/R/include" -DNDEBUG -I../inst/include -I'/home/biocbuild/bbs-3.18-bioc/R/site-library/RcppParallel/include' -I/usr/local/include    -fpic  -g -O2  -Wall -c LibHLA_ext_avx2.cpp -o LibHLA_ext_avx2.o
g++ -std=gnu++11 -I"/home/biocbuild/bbs-3.18-bioc/R/include" -DNDEBUG -I../inst/include -I'/home/biocbuild/bbs-3.18-bioc/R/site-library/RcppParallel/include' -I/usr/local/include    -fpic  -g -O2  -Wall -c LibHLA_ext_avx512bw.cpp -o LibHLA_ext_avx512bw.o
g++ -std=gnu++11 -I"/home/biocbuild/bbs-3.18-bioc/R/include" -DNDEBUG -I../inst/include -I'/home/biocbuild/bbs-3.18-bioc/R/site-library/RcppParallel/include' -I/usr/local/include    -fpic  -g -O2  -Wall -c LibHLA_ext_avx512f.cpp -o LibHLA_ext_avx512f.o
g++ -std=gnu++11 -I"/home/biocbuild/bbs-3.18-bioc/R/include" -DNDEBUG -I../inst/include -I'/home/biocbuild/bbs-3.18-bioc/R/site-library/RcppParallel/include' -I/usr/local/include    -fpic  -g -O2  -Wall -c LibHLA_ext_avx512vpopcnt.cpp -o LibHLA_ext_avx512vpopcnt.o
LibHLA_ext_avx512vpopcnt.cpp: In static member function ‘static HLA_LIB::THLAType HLA_LIB::CAlg_Prediction::_BestGuess_avx512vpopcnt(const HLA_LIB::CHaplotypeList&, const HLA_LIB::TGenotype&)’:
LibHLA_ext_avx512vpopcnt.cpp:239:81: warning: ‘GS.TGenoStruct_512vpopcnt::S2_1’ may be used uninitialized in this function [-Wmaybe-uninitialized]
  239 |                         __m512i va_1 = (H1_1_8 ^ S1_1) & MASK_1, vb_1 = (H2_1_8 ^ S2_1) & MASK_1;
      |                                                                         ~~~~~~~~^~~~~~~
LibHLA_ext_avx512vpopcnt.cpp:358:38: note: ‘GS.TGenoStruct_512vpopcnt::S2_1’ was declared here
  358 |         const TGenoStruct_512vpopcnt GS(Haplo, Geno);
      |                                      ^~
LibHLA_ext_avx512vpopcnt.cpp:237:90: warning: ‘GS.TGenoStruct_512vpopcnt::S1_1’ may be used uninitialized in this function [-Wmaybe-uninitialized]
  237 |                         __m512i MASK_1 = SIMD_ANDNOT_I512(M_1, (H1_1_8 ^ S2_1) | (H2_1_8 ^ S1_1));
      |                                                                                          ^
LibHLA_ext_avx512vpopcnt.cpp:358:38: note: ‘GS.TGenoStruct_512vpopcnt::S1_1’ was declared here
  358 |         const TGenoStruct_512vpopcnt GS(Haplo, Geno);
      |                                      ^~
LibHLA_ext_avx512vpopcnt.cpp: In static member function ‘static double HLA_LIB::CAlg_Prediction::_PostProb_avx512vpopcnt(const HLA_LIB::CHaplotypeList&, const HLA_LIB::TGenotype&, const HLA_LIB::THLAType&)’:
LibHLA_ext_avx512vpopcnt.cpp:239:81: warning: ‘GS.TGenoStruct_512vpopcnt::S2_1’ may be used uninitialized in this function [-Wmaybe-uninitialized]
  239 |                         __m512i va_1 = (H1_1_8 ^ S1_1) & MASK_1, vb_1 = (H2_1_8 ^ S2_1) & MASK_1;
      |                                                                         ~~~~~~~~^~~~~~~
LibHLA_ext_avx512vpopcnt.cpp:431:38: note: ‘GS.TGenoStruct_512vpopcnt::S2_1’ was declared here
  431 |         const TGenoStruct_512vpopcnt GS(Haplo, Geno);
      |                                      ^~
LibHLA_ext_avx512vpopcnt.cpp:237:90: warning: ‘GS.TGenoStruct_512vpopcnt::S1_1’ may be used uninitialized in this function [-Wmaybe-uninitialized]
  237 |                         __m512i MASK_1 = SIMD_ANDNOT_I512(M_1, (H1_1_8 ^ S2_1) | (H2_1_8 ^ S1_1));
      |                                                                                          ^
LibHLA_ext_avx512vpopcnt.cpp:431:38: note: ‘GS.TGenoStruct_512vpopcnt::S1_1’ was declared here
  431 |         const TGenoStruct_512vpopcnt GS(Haplo, Geno);
      |                                      ^~
LibHLA_ext_avx512vpopcnt.cpp: In static member function ‘static double HLA_LIB::CAlg_Prediction::_PostProb2_avx512vpopcnt(const HLA_LIB::CHaplotypeList&, const HLA_LIB::TGenotype&, double*)’:
LibHLA_ext_avx512vpopcnt.cpp:239:81: warning: ‘GS.TGenoStruct_512vpopcnt::S2_1’ may be used uninitialized in this function [-Wmaybe-uninitialized]
  239 |                         __m512i va_1 = (H1_1_8 ^ S1_1) & MASK_1, vb_1 = (H2_1_8 ^ S2_1) & MASK_1;
      |                                                                         ~~~~~~~~^~~~~~~
LibHLA_ext_avx512vpopcnt.cpp:500:38: note: ‘GS.TGenoStruct_512vpopcnt::S2_1’ was declared here
  500 |         const TGenoStruct_512vpopcnt GS(Haplo, Geno);
      |                                      ^~
LibHLA_ext_avx512vpopcnt.cpp:237:90: warning: ‘GS.TGenoStruct_512vpopcnt::S1_1’ may be used uninitialized in this function [-Wmaybe-uninitialized]
  237 |                         __m512i MASK_1 = SIMD_ANDNOT_I512(M_1, (H1_1_8 ^ S2_1) | (H2_1_8 ^ S1_1));
      |                                                                                          ^
LibHLA_ext_avx512vpopcnt.cpp:500:38: note: ‘GS.TGenoStruct_512vpopcnt::S1_1’ was declared here
  500 |         const TGenoStruct_512vpopcnt GS(Haplo, Geno);
      |                                      ^~
g++ -std=gnu++11 -I"/home/biocbuild/bbs-3.18-bioc/R/include" -DNDEBUG -I../inst/include -I'/home/biocbuild/bbs-3.18-bioc/R/site-library/RcppParallel/include' -I/usr/local/include    -fpic  -g -O2  -Wall -c LibHLA_ext_sse2.cpp -o LibHLA_ext_sse2.o
g++ -std=gnu++11 -I"/home/biocbuild/bbs-3.18-bioc/R/include" -DNDEBUG -I../inst/include -I'/home/biocbuild/bbs-3.18-bioc/R/site-library/RcppParallel/include' -I/usr/local/include    -fpic  -g -O2  -Wall -c LibHLA_ext_sse4_2.cpp -o LibHLA_ext_sse4_2.o
gcc -I"/home/biocbuild/bbs-3.18-bioc/R/include" -DNDEBUG -I../inst/include -I'/home/biocbuild/bbs-3.18-bioc/R/site-library/RcppParallel/include' -I/usr/local/include    -fpic  -g -O2  -Wall -c samtools_ext.c -o samtools_ext.o
g++ -std=gnu++11 -shared -L/home/biocbuild/bbs-3.18-bioc/R/lib -L/usr/local/lib -o HIBAG.so HIBAG.o LibHLA.o LibHLA_ext_avx.o LibHLA_ext_avx2.o LibHLA_ext_avx512bw.o LibHLA_ext_avx512f.o LibHLA_ext_avx512vpopcnt.o LibHLA_ext_sse2.o LibHLA_ext_sse4_2.o samtools_ext.o -lgcc -L/home/biocbuild/bbs-3.18-bioc/R/lib -lR
installing to /home/biocbuild/bbs-3.18-bioc/R/site-library/00LOCK-HIBAG/00new/HIBAG/libs
** R
** data
*** moving datasets to lazyload DB
** inst
** byte-compile and prepare package for lazy loading
** help
*** installing help indices
** building package indices
** installing vignettes
** testing if installed package can be loaded from temporary location
** checking absolute paths in shared objects and dynamic libraries
** testing if installed package can be loaded from final location
** testing if installed package keeps a record of temporary installation path
* DONE (HIBAG)