Back to Multiple platform build/check report for BioC 3.12
ABCDEFG[H]IJKLMNOPQRSTUVWXYZ

INSTALL report for HEM on nebbiolo1

This page was generated on 2021-01-19 11:53:37 -0500 (Tue, 19 Jan 2021).

TO THE DEVELOPERS/MAINTAINERS OF THE HEM PACKAGE: Please make sure to use the following settings in order to reproduce any error or warning you see on this page.
Package 825/1974HostnameOS / ArchINSTALLBUILDCHECKBUILD BIN
HEM 1.62.0
HyungJun Cho
Snapshot Date: 2021-01-18 14:42:24 -0500 (Mon, 18 Jan 2021)
URL: https://git.bioconductor.org/packages/HEM
Branch: RELEASE_3_12
Last Commit: 9f7f3a0
Last Changed Date: 2020-10-27 10:24:21 -0500 (Tue, 27 Oct 2020)
malbec1 Linux (Ubuntu 18.04.5 LTS) / x86_64  OK  OK  OK UNNEEDED, same version exists in internal repository
nebbiolo1 Linux (Ubuntu 20.04.1 LTS) / x86_64 [ OK ] OK  OK 
tokay1 Windows Server 2012 R2 Standard / x64  OK  OK  OK  OK UNNEEDED, same version exists in internal repository
merida1 macOS 10.14.6 Mojave / x86_64  OK  OK  OK  OK UNNEEDED, same version exists in internal repository

Summary

Package: HEM
Version: 1.62.0
Command: /home/biocbuild/bbs-3.12-bioc/R/bin/R CMD INSTALL HEM
StartedAt: 2021-01-18 16:18:12 -0500 (Mon, 18 Jan 2021)
EndedAt: 2021-01-18 16:19:21 -0500 (Mon, 18 Jan 2021)
EllapsedTime: 69.8 seconds
RetCode: 0
Status:  OK 

Command output

##############################################################################
##############################################################################
###
### Running command:
###
###   /home/biocbuild/bbs-3.12-bioc/R/bin/R CMD INSTALL HEM
###
##############################################################################
##############################################################################


* installing to library ‘/home/biocbuild/bbs-3.12-bioc/R/library’
* installing *source* package ‘HEM’ ...
** using staged installation
** libs
gcc -I"/home/biocbuild/bbs-3.12-bioc/R/include" -DNDEBUG   -I/usr/local/include   -fpic  -g -O2  -Wall -c hem.c -o hem.o
hem.c: In function ‘onelayerhem’:
hem.c:1390:12: warning: variable ‘k’ set but not used [-Wunused-but-set-variable]
 1390 |  int i, j, k, m, n;
      |            ^
hem.c: In function ‘chk_prt’:
hem.c:1593:16: warning: variable ‘l’ set but not used [-Wunused-but-set-variable]
 1593 |   int i, j, k, l;
      |                ^
gcc -shared -L/home/biocbuild/bbs-3.12-bioc/R/lib -L/usr/local/lib -o HEM.so hem.o -L/home/biocbuild/bbs-3.12-bioc/R/lib -lR
installing to /home/biocbuild/bbs-3.12-bioc/R/library/00LOCK-HEM/00new/HEM/libs
** R
** data
** byte-compile and prepare package for lazy loading
** help
*** installing help indices
** building package indices
** installing vignettes
** testing if installed package can be loaded from temporary location
** checking absolute paths in shared objects and dynamic libraries
** testing if installed package can be loaded from final location
** testing if installed package keeps a record of temporary installation path
* DONE (HEM)