Name | Last modified | Size | Description | |
---|---|---|---|---|
Parent Directory | - | |||
buildbin-out.txt | 27-Jul-2024 06:39 | 14K | ||
buildbin-summary.dcf | 27-Jul-2024 06:39 | 528 | ||
buildsrc-out.txt | 27-Jul-2024 06:39 | 791 | ||
buildsrc-summary.dcf | 27-Jul-2024 06:39 | 459 | ||
checksrc-out.txt | 27-Jul-2024 06:39 | 6.0K | ||
checksrc-summary.dcf | 27-Jul-2024 06:39 | 461 | ||
install-out.txt | 27-Jul-2024 06:39 | 13K | ||
install-summary.dcf | 27-Jul-2024 06:39 | 272 | ||