Name | Last modified | Size | Description | |
---|---|---|---|---|
Parent Directory | - | |||
install-summary.dcf | 23-May-2024 00:35 | 272 | ||
install-out.txt | 23-May-2024 00:35 | 13K | ||
checksrc-summary.dcf | 23-May-2024 00:35 | 462 | ||
checksrc-out.txt | 23-May-2024 00:35 | 6.0K | ||
buildsrc-summary.dcf | 23-May-2024 00:35 | 459 | ||
buildsrc-out.txt | 23-May-2024 00:35 | 791 | ||
buildbin-summary.dcf | 23-May-2024 00:35 | 527 | ||
buildbin-out.txt | 23-May-2024 00:35 | 14K | ||