Name | Last modified | Size | Description | |
---|---|---|---|---|
Parent Directory | - | |||
buildbin-out.txt | 12-Jun-2024 03:43 | 11K | ||
install-out.txt | 12-Jun-2024 03:43 | 9.0K | ||
checksrc-out.txt | 12-Jun-2024 03:43 | 5.8K | ||
buildsrc-out.txt | 12-Jun-2024 03:43 | 767 | ||
buildbin-summary.dcf | 12-Jun-2024 03:43 | 542 | ||
checksrc-summary.dcf | 12-Jun-2024 03:43 | 458 | ||
buildsrc-summary.dcf | 12-Jun-2024 03:43 | 432 | ||
install-summary.dcf | 12-Jun-2024 03:43 | 273 | ||