Name | Last modified | Size | Description | |
---|---|---|---|---|
Parent Directory | - | |||
buildbin-out.txt | 24-Jul-2024 22:07 | 11K | ||
buildbin-summary.dcf | 24-Jul-2024 22:07 | 542 | ||
buildsrc-out.txt | 24-Jul-2024 22:07 | 767 | ||
buildsrc-summary.dcf | 24-Jul-2024 22:07 | 432 | ||
checksrc-out.txt | 24-Jul-2024 22:07 | 5.8K | ||
checksrc-summary.dcf | 24-Jul-2024 22:07 | 458 | ||
install-out.txt | 24-Jul-2024 22:07 | 9.0K | ||
install-summary.dcf | 24-Jul-2024 22:07 | 273 | ||