Back to Multiple platform build/check report for BioC 3.18:   simplified   long
ABCDEFG[H]IJKLMNOPQRSTUVWXYZ

This page was generated on 2024-03-29 11:36:51 -0400 (Fri, 29 Mar 2024).

HostnameOSArch (*)R versionInstalled pkgs
nebbiolo2Linux (Ubuntu 22.04.3 LTS)x86_644.3.3 (2024-02-29) -- "Angel Food Cake" 4669
palomino4Windows Server 2022 Datacenterx644.3.3 (2024-02-29 ucrt) -- "Angel Food Cake" 4404
merida1macOS 12.7.1 Montereyx86_644.3.3 (2024-02-29) -- "Angel Food Cake" 4427
Click on any hostname to see more info about the system (e.g. compilers)      (*) as reported by 'uname -p', except on Windows and Mac OS X

Package 935/2266HostnameOS / ArchINSTALLBUILDCHECKBUILD BIN
HDF5Array 1.30.1  (landing page)
Hervé Pagès
Snapshot Date: 2024-03-27 14:05:05 -0400 (Wed, 27 Mar 2024)
git_url: https://git.bioconductor.org/packages/HDF5Array
git_branch: RELEASE_3_18
git_last_commit: 1aee703
git_last_commit_date: 2024-02-14 00:03:31 -0400 (Wed, 14 Feb 2024)
nebbiolo2Linux (Ubuntu 22.04.3 LTS) / x86_64  OK    OK    WARNINGS  UNNEEDED, same version is already published
palomino4Windows Server 2022 Datacenter / x64  OK    OK    OK    OK  UNNEEDED, same version is already published
merida1macOS 12.7.1 Monterey / x86_64  OK    OK    WARNINGS    OK  UNNEEDED, same version is already published
kjohnson1macOS 13.6.1 Ventura / arm64see weekly results here

BUILD BIN results for HDF5Array on palomino4


To the developers/maintainers of the HDF5Array package:
- Allow up to 24 hours (and sometimes 48 hours) for your latest push to git@git.bioconductor.org:packages/HDF5Array.git to reflect on this report. See Troubleshooting Build Report for more information.
- Use the following Renviron settings to reproduce errors and warnings.
- If 'R CMD check' started to fail recently on the Linux builder(s) over a missing dependency, add the missing dependency to 'Suggests:' in your DESCRIPTION file. See Renviron.bioc for more information.

raw results


Summary

Package: HDF5Array
Version: 1.30.1
Command: rm -rf HDF5Array.buildbin-libdir && mkdir HDF5Array.buildbin-libdir && F:\biocbuild\bbs-3.18-bioc\R\bin\R.exe CMD INSTALL --build --library=HDF5Array.buildbin-libdir HDF5Array_1.30.1.tar.gz
StartedAt: 2024-03-28 07:10:42 -0400 (Thu, 28 Mar 2024)
EndedAt: 2024-03-28 07:11:34 -0400 (Thu, 28 Mar 2024)
EllapsedTime: 51.8 seconds
RetCode: 0
Status:   OK  
PackageFile: HDF5Array_1.30.1.zip
PackageFileSize: 11.13 MiB

Command output

##############################################################################
##############################################################################
###
### Running command:
###
###   rm -rf HDF5Array.buildbin-libdir && mkdir HDF5Array.buildbin-libdir && F:\biocbuild\bbs-3.18-bioc\R\bin\R.exe CMD INSTALL --build --library=HDF5Array.buildbin-libdir HDF5Array_1.30.1.tar.gz
###
##############################################################################
##############################################################################


* installing *source* package 'HDF5Array' ...
** using staged installation
** libs
using C compiler: 'gcc.exe (GCC) 12.3.0'
gcc  -I"F:/biocbuild/bbs-3.18-bioc/R/include" -DNDEBUG  -I'F:/biocbuild/bbs-3.18-bioc/R/library/S4Vectors/include' -I'F:/biocbuild/bbs-3.18-bioc/R/library/Rhdf5lib/include'   -I"C:/rtools43/x86_64-w64-mingw32.static.posix/include"     -O2 -Wall  -mfpmath=sse -msse2 -mstackrealign  -c S4Vectors_stubs.c -o S4Vectors_stubs.o
gcc  -I"F:/biocbuild/bbs-3.18-bioc/R/include" -DNDEBUG  -I'F:/biocbuild/bbs-3.18-bioc/R/library/S4Vectors/include' -I'F:/biocbuild/bbs-3.18-bioc/R/library/Rhdf5lib/include'   -I"C:/rtools43/x86_64-w64-mingw32.static.posix/include"     -O2 -Wall  -mfpmath=sse -msse2 -mstackrealign  -c H5File.c -o H5File.o
gcc  -I"F:/biocbuild/bbs-3.18-bioc/R/include" -DNDEBUG  -I'F:/biocbuild/bbs-3.18-bioc/R/library/S4Vectors/include' -I'F:/biocbuild/bbs-3.18-bioc/R/library/Rhdf5lib/include'   -I"C:/rtools43/x86_64-w64-mingw32.static.posix/include"     -O2 -Wall  -mfpmath=sse -msse2 -mstackrealign  -c global_errmsg_buf.c -o global_errmsg_buf.o
gcc  -I"F:/biocbuild/bbs-3.18-bioc/R/include" -DNDEBUG  -I'F:/biocbuild/bbs-3.18-bioc/R/library/S4Vectors/include' -I'F:/biocbuild/bbs-3.18-bioc/R/library/Rhdf5lib/include'   -I"C:/rtools43/x86_64-w64-mingw32.static.posix/include"     -O2 -Wall  -mfpmath=sse -msse2 -mstackrealign  -c H5DSetDescriptor.c -o H5DSetDescriptor.o
gcc  -I"F:/biocbuild/bbs-3.18-bioc/R/include" -DNDEBUG  -I'F:/biocbuild/bbs-3.18-bioc/R/library/S4Vectors/include' -I'F:/biocbuild/bbs-3.18-bioc/R/library/Rhdf5lib/include'   -I"C:/rtools43/x86_64-w64-mingw32.static.posix/include"     -O2 -Wall  -mfpmath=sse -msse2 -mstackrealign  -c h5dimscales.c -o h5dimscales.o
In file included from h5dimscales.c:7:
H5File.h:11: warning: "__USE_MINGW_ANSI_STDIO" redefined
   11 | #define __USE_MINGW_ANSI_STDIO 1
      | 
In file included from c:\rtools43\x86_64-w64-mingw32.static.posix\include\corecrt.h:10,
                 from c:\rtools43\x86_64-w64-mingw32.static.posix\include\crtdefs.h:10,
                 from c:\rtools43\x86_64-w64-mingw32.static.posix\include\stddef.h:7,
                 from c:\rtools43\x86_64-w64-mingw32.static.posix\lib\gcc\x86_64-w64-mingw32.static.posix\12.3.0\include\stddef.h:1,
                 from F:/biocbuild/bbs-3.18-bioc/R/include/R_ext/Memory.h:36,
                 from F:/biocbuild/bbs-3.18-bioc/R/include/Rdefines.h:37,
                 from h5dimscales.h:4,
                 from h5dimscales.c:5:
c:\rtools43\x86_64-w64-mingw32.static.posix\include\_mingw.h:441: note: this is the location of the previous definition
  441 | #define __USE_MINGW_ANSI_STDIO 0      /* was not defined so it should be 0 */
      | 
gcc  -I"F:/biocbuild/bbs-3.18-bioc/R/include" -DNDEBUG  -I'F:/biocbuild/bbs-3.18-bioc/R/library/S4Vectors/include' -I'F:/biocbuild/bbs-3.18-bioc/R/library/Rhdf5lib/include'   -I"C:/rtools43/x86_64-w64-mingw32.static.posix/include"     -O2 -Wall  -mfpmath=sse -msse2 -mstackrealign  -c uaselection.c -o uaselection.o
gcc  -I"F:/biocbuild/bbs-3.18-bioc/R/include" -DNDEBUG  -I'F:/biocbuild/bbs-3.18-bioc/R/library/S4Vectors/include' -I'F:/biocbuild/bbs-3.18-bioc/R/library/Rhdf5lib/include'   -I"C:/rtools43/x86_64-w64-mingw32.static.posix/include"     -O2 -Wall  -mfpmath=sse -msse2 -mstackrealign  -c h5mread_helpers.c -o h5mread_helpers.o
gcc  -I"F:/biocbuild/bbs-3.18-bioc/R/include" -DNDEBUG  -I'F:/biocbuild/bbs-3.18-bioc/R/library/S4Vectors/include' -I'F:/biocbuild/bbs-3.18-bioc/R/library/Rhdf5lib/include'   -I"C:/rtools43/x86_64-w64-mingw32.static.posix/include"     -O2 -Wall  -mfpmath=sse -msse2 -mstackrealign  -c h5mread_startscounts.c -o h5mread_startscounts.o
gcc  -I"F:/biocbuild/bbs-3.18-bioc/R/include" -DNDEBUG  -I'F:/biocbuild/bbs-3.18-bioc/R/library/S4Vectors/include' -I'F:/biocbuild/bbs-3.18-bioc/R/library/Rhdf5lib/include'   -I"C:/rtools43/x86_64-w64-mingw32.static.posix/include"     -O2 -Wall  -mfpmath=sse -msse2 -mstackrealign  -c ChunkIterator.c -o ChunkIterator.o
gcc  -I"F:/biocbuild/bbs-3.18-bioc/R/include" -DNDEBUG  -I'F:/biocbuild/bbs-3.18-bioc/R/library/S4Vectors/include' -I'F:/biocbuild/bbs-3.18-bioc/R/library/Rhdf5lib/include'   -I"C:/rtools43/x86_64-w64-mingw32.static.posix/include"     -O2 -Wall  -mfpmath=sse -msse2 -mstackrealign  -c h5mread_index.c -o h5mread_index.o
gcc  -I"F:/biocbuild/bbs-3.18-bioc/R/include" -DNDEBUG  -I'F:/biocbuild/bbs-3.18-bioc/R/library/S4Vectors/include' -I'F:/biocbuild/bbs-3.18-bioc/R/library/Rhdf5lib/include'   -I"C:/rtools43/x86_64-w64-mingw32.static.posix/include"     -O2 -Wall  -mfpmath=sse -msse2 -mstackrealign  -c h5mread_sparse.c -o h5mread_sparse.o
h5mread_sparse.c:206:13: warning: 'NOT_USED_make_nzindex_from_bufs' defined but not used [-Wunused-function]
  206 | static SEXP NOT_USED_make_nzindex_from_bufs(const IntAEAE *nzindex_bufs,
      |             ^~~~~~~~~~~~~~~~~~~~~~~~~~~~~~~
h5mread_sparse.c:179:13: warning: 'NOT_USED_make_nzdata_from_IntAE_bufs' defined but not used [-Wunused-function]
  179 | static SEXP NOT_USED_make_nzdata_from_IntAE_bufs(const IntAEAE *nzdata_bufs,
      |             ^~~~~~~~~~~~~~~~~~~~~~~~~~~~~~~~~~~~
h5mread_sparse.c:123:13: warning: 'NOT_USED_make_nzindex_from_buf' defined but not used [-Wunused-function]
  123 | static SEXP NOT_USED_make_nzindex_from_buf(const IntAE *nzindex_buf,
      |             ^~~~~~~~~~~~~~~~~~~~~~~~~~~~~~
gcc  -I"F:/biocbuild/bbs-3.18-bioc/R/include" -DNDEBUG  -I'F:/biocbuild/bbs-3.18-bioc/R/library/S4Vectors/include' -I'F:/biocbuild/bbs-3.18-bioc/R/library/Rhdf5lib/include'   -I"C:/rtools43/x86_64-w64-mingw32.static.posix/include"     -O2 -Wall  -mfpmath=sse -msse2 -mstackrealign  -c h5mread.c -o h5mread.o
In file included from h5mread.c:7:
H5File.h:11: warning: "__USE_MINGW_ANSI_STDIO" redefined
   11 | #define __USE_MINGW_ANSI_STDIO 1
      | 
In file included from c:\rtools43\x86_64-w64-mingw32.static.posix\include\corecrt.h:10,
                 from c:\rtools43\x86_64-w64-mingw32.static.posix\include\crtdefs.h:10,
                 from c:\rtools43\x86_64-w64-mingw32.static.posix\include\stddef.h:7,
                 from c:\rtools43\x86_64-w64-mingw32.static.posix\lib\gcc\x86_64-w64-mingw32.static.posix\12.3.0\include\stddef.h:1,
                 from F:/biocbuild/bbs-3.18-bioc/R/include/R_ext/Memory.h:36,
                 from F:/biocbuild/bbs-3.18-bioc/R/include/Rdefines.h:37,
                 from h5mread.h:4,
                 from h5mread.c:5:
c:\rtools43\x86_64-w64-mingw32.static.posix\include\_mingw.h:441: note: this is the location of the previous definition
  441 | #define __USE_MINGW_ANSI_STDIO 0      /* was not defined so it should be 0 */
      | 
gcc  -I"F:/biocbuild/bbs-3.18-bioc/R/include" -DNDEBUG  -I'F:/biocbuild/bbs-3.18-bioc/R/library/S4Vectors/include' -I'F:/biocbuild/bbs-3.18-bioc/R/library/Rhdf5lib/include'   -I"C:/rtools43/x86_64-w64-mingw32.static.posix/include"     -O2 -Wall  -mfpmath=sse -msse2 -mstackrealign  -c h5summarize.c -o h5summarize.o
In file included from h5summarize.c:7:
H5File.h:11: warning: "__USE_MINGW_ANSI_STDIO" redefined
   11 | #define __USE_MINGW_ANSI_STDIO 1
      | 
In file included from c:\rtools43\x86_64-w64-mingw32.static.posix\include\corecrt.h:10,
                 from c:\rtools43\x86_64-w64-mingw32.static.posix\include\crtdefs.h:10,
                 from c:\rtools43\x86_64-w64-mingw32.static.posix\include\stddef.h:7,
                 from c:\rtools43\x86_64-w64-mingw32.static.posix\lib\gcc\x86_64-w64-mingw32.static.posix\12.3.0\include\stddef.h:1,
                 from F:/biocbuild/bbs-3.18-bioc/R/include/R_ext/Memory.h:36,
                 from F:/biocbuild/bbs-3.18-bioc/R/include/Rdefines.h:37,
                 from h5summarize.h:4,
                 from h5summarize.c:5:
c:\rtools43\x86_64-w64-mingw32.static.posix\include\_mingw.h:441: note: this is the location of the previous definition
  441 | #define __USE_MINGW_ANSI_STDIO 0      /* was not defined so it should be 0 */
      | 
gcc  -I"F:/biocbuild/bbs-3.18-bioc/R/include" -DNDEBUG  -I'F:/biocbuild/bbs-3.18-bioc/R/library/S4Vectors/include' -I'F:/biocbuild/bbs-3.18-bioc/R/library/Rhdf5lib/include'   -I"C:/rtools43/x86_64-w64-mingw32.static.posix/include"     -O2 -Wall  -mfpmath=sse -msse2 -mstackrealign  -c R_init_HDF5Array.c -o R_init_HDF5Array.o
gcc -shared -s -static-libgcc -o HDF5Array.dll tmp.def S4Vectors_stubs.o H5File.o global_errmsg_buf.o H5DSetDescriptor.o h5dimscales.o uaselection.o h5mread_helpers.o h5mread_startscounts.o ChunkIterator.o h5mread_index.o h5mread_sparse.o h5mread.o h5summarize.o R_init_HDF5Array.o -LF:/biocbuild/bbs-3.18-bioc/R/library/Rhdf5lib/lib/x64-ucrt -lhdf5_hl -lhdf5 -lcurl -lssh2 -lssl -lcrypto -lwldap32 -lws2_32 -lcrypt32 -lsz -laec -lz -lpsapi -LC:/rtools43/x86_64-w64-mingw32.static.posix/lib/x64 -LC:/rtools43/x86_64-w64-mingw32.static.posix/lib -LF:/biocbuild/bbs-3.18-bioc/R/bin/x64 -lR
installing to F:/biocbuild/bbs-3.18-bioc/meat/HDF5Array.buildbin-libdir/00LOCK-HDF5Array/00new/HDF5Array/libs/x64
** R
** inst
** byte-compile and prepare package for lazy loading
** help
*** installing help indices
** building package indices
** testing if installed package can be loaded from temporary location
** testing if installed package can be loaded from final location
** testing if installed package keeps a record of temporary installation path
* MD5 sums
packaged installation of 'HDF5Array' as HDF5Array_1.30.1.zip
* DONE (HDF5Array)