![]() | Name | Last modified | Size | Description |
---|---|---|---|---|
![]() | Parent Directory | - | ||
![]() | buildsrc-out.txt | 24-Sep-2023 00:35 | 802 | |
![]() | buildsrc-summary.dcf | 24-Sep-2023 00:35 | 415 | |
![]() | checksrc-out.txt | 24-Sep-2023 00:35 | 4.5K | |
![]() | checksrc-summary.dcf | 24-Sep-2023 00:35 | 411 | |
![]() | install-out.txt | 24-Sep-2023 00:35 | 949 | |
![]() | install-summary.dcf | 24-Sep-2023 00:35 | 257 | |