Index of /checkResults/release/bioc-LATEST/Guitar/raw-results/merida1

[ICO]NameLast modifiedSizeDescription

[DIR]Parent Directory  -  
[TXT]buildbin-out.txt24-Sep-2023 00:36 1.1K 
[   ]buildbin-summary.dcf24-Sep-2023 00:36 525  
[TXT]buildsrc-out.txt24-Sep-2023 00:36 812  
[   ]buildsrc-summary.dcf24-Sep-2023 00:36 426  
[TXT]checksrc-out.txt24-Sep-2023 00:36 4.5K 
[   ]checksrc-summary.dcf24-Sep-2023 00:36 440  
[TXT]install-out.txt24-Sep-2023 00:36 1.0K 
[   ]install-summary.dcf24-Sep-2023 00:36 268