Name | Last modified | Size | Description | |
---|---|---|---|---|
Parent Directory | - | |||
checksrc-out.txt | 10-May-2024 00:40 | 4.5K | ||
install-out.txt | 10-May-2024 00:40 | 971 | ||
buildsrc-out.txt | 10-May-2024 00:40 | 813 | ||
checksrc-summary.dcf | 10-May-2024 00:40 | 447 | ||
buildsrc-summary.dcf | 10-May-2024 00:40 | 427 | ||
install-summary.dcf | 10-May-2024 00:40 | 268 | ||