Index of /checkResults/release/bioc-LATEST/Guitar/raw-results

[ICO]NameLast modifiedSizeDescription

[DIR]Parent Directory  -  
[   ]info.dcf05-Oct-2023 00:37 266  
[DIR]palomino3/05-Oct-2023 00:36 -  
[DIR]nebbiolo1/05-Oct-2023 00:35 -  
[DIR]merida1/05-Oct-2023 00:37 -