Name | Last modified | Size | Description | |
---|---|---|---|---|
Parent Directory | - | |||
buildsrc-summary.dcf | 15-Jun-2024 03:37 | 437 | ||
install-out.txt | 15-Jun-2024 03:37 | 4.7K | ||
install-summary.dcf | 15-Jun-2024 03:37 | 272 | ||
buildsrc-out.txt | 15-Jun-2024 03:37 | 864 | ||
checksrc-out.txt | 15-Jun-2024 03:37 | 5.5K | ||
checksrc-summary.dcf | 15-Jun-2024 03:37 | 447 | ||