Back to Multiple platform build/check report for BioC 3.17:   simplified   long
ABCDEF[G]HIJKLMNOPQRSTUVWXYZ

This page was generated on 2023-10-03 11:35:34 -0400 (Tue, 03 Oct 2023).

HostnameOSArch (*)R versionInstalled pkgs
nebbiolo1Linux (Ubuntu 22.04.2 LTS)x86_644.3.1 (2023-06-16) -- "Beagle Scouts" 4626
palomino3Windows Server 2022 Datacenterx644.3.1 (2023-06-16 ucrt) -- "Beagle Scouts" 4379
merida1macOS 12.6.4 Montereyx86_644.3.1 (2023-06-16) -- "Beagle Scouts" 4395
Click on any hostname to see more info about the system (e.g. compilers)      (*) as reported by 'uname -p', except on Windows and Mac OS X

Package 849/2230HostnameOS / ArchINSTALLBUILDCHECKBUILD BIN
GlobalAncova 4.18.0  (landing page)
Manuela Hummel
Snapshot Date: 2023-10-02 14:00:11 -0400 (Mon, 02 Oct 2023)
git_url: https://git.bioconductor.org/packages/GlobalAncova
git_branch: RELEASE_3_17
git_last_commit: 198084f
git_last_commit_date: 2023-04-25 09:42:34 -0400 (Tue, 25 Apr 2023)
nebbiolo1Linux (Ubuntu 22.04.2 LTS) / x86_64  OK    OK    OK  UNNEEDED, same version is already published
palomino3Windows Server 2022 Datacenter / x64  OK    OK    OK    OK  UNNEEDED, same version is already published
merida1macOS 12.6.4 Monterey / x86_64  OK    OK    OK    OK  UNNEEDED, same version is already published

BUILD results for GlobalAncova on nebbiolo1


To the developers/maintainers of the GlobalAncova package:
- Allow up to 24 hours (and sometimes 48 hours) for your latest push to git@git.bioconductor.org:packages/GlobalAncova.git to reflect on this report. See Troubleshooting Build Report for more information.
- Use the following Renviron settings to reproduce errors and warnings.
- If 'R CMD check' started to fail recently on the Linux builder(s) over a missing dependency, add the missing dependency to 'Suggests:' in your DESCRIPTION file. See Renviron.bioc for more information.

raw results


Summary

Package: GlobalAncova
Version: 4.18.0
Command: /home/biocbuild/bbs-3.17-bioc/R/bin/R CMD build --keep-empty-dirs --no-resave-data GlobalAncova
StartedAt: 2023-10-02 16:54:46 -0400 (Mon, 02 Oct 2023)
EndedAt: 2023-10-02 16:58:43 -0400 (Mon, 02 Oct 2023)
EllapsedTime: 237.2 seconds
RetCode: 0
Status:   OK  
PackageFile: GlobalAncova_4.18.0.tar.gz
PackageFileSize: 957 KiB

Command output

##############################################################################
##############################################################################
###
### Running command:
###
###   /home/biocbuild/bbs-3.17-bioc/R/bin/R CMD build --keep-empty-dirs --no-resave-data GlobalAncova
###
##############################################################################
##############################################################################


* checking for file ‘GlobalAncova/DESCRIPTION’ ... OK
* preparing ‘GlobalAncova’:
* checking DESCRIPTION meta-information ... OK
* cleaning src
* installing the package to build vignettes
* creating vignettes ... OK
* cleaning src
* checking for LF line-endings in source and make files and shell scripts
* checking for empty or unneeded directories
* looking to see if a ‘data/datalist’ file should be added
* building ‘GlobalAncova_4.18.0.tar.gz’