Name | Last modified | Size | Description | |
---|---|---|---|---|
Parent Directory | - | |||
buildbin-out.txt | 30-Mar-2024 00:36 | 6.7K | ||
buildbin-summary.dcf | 30-Mar-2024 00:36 | 513 | ||
buildsrc-out.txt | 30-Mar-2024 00:36 | 930 | ||
buildsrc-summary.dcf | 30-Mar-2024 00:36 | 451 | ||
checksrc-out.txt | 30-Mar-2024 00:36 | 4.9K | ||
checksrc-summary.dcf | 30-Mar-2024 00:36 | 445 | ||
install-out.txt | 30-Mar-2024 00:36 | 6.5K | ||
install-summary.dcf | 30-Mar-2024 00:36 | 268 | ||