Name | Last modified | Size | Description | |
---|---|---|---|---|
Parent Directory | - | |||
install-summary.dcf | 05-Mar-2024 01:39 | 269 | ||
buildsrc-summary.dcf | 05-Mar-2024 01:39 | 425 | ||
checksrc-summary.dcf | 05-Mar-2024 01:39 | 442 | ||
buildbin-summary.dcf | 05-Mar-2024 01:39 | 528 | ||
buildsrc-out.txt | 05-Mar-2024 01:39 | 908 | ||
checksrc-out.txt | 05-Mar-2024 01:39 | 4.5K | ||
install-out.txt | 05-Mar-2024 01:39 | 5.8K | ||
buildbin-out.txt | 05-Mar-2024 01:39 | 9.4K | ||