Name | Last modified | Size | Description | |
---|---|---|---|---|
Parent Directory | - | |||
install-out.txt | 19-May-2024 00:37 | 2.7K | ||
install-summary.dcf | 19-May-2024 00:37 | 281 | ||
buildsrc-out.txt | 19-May-2024 00:37 | 870 | ||
buildsrc-summary.dcf | 19-May-2024 00:37 | 445 | ||
checksrc-out.txt | 19-May-2024 00:37 | 4.7K | ||
checksrc-summary.dcf | 19-May-2024 00:37 | 468 | ||
buildbin-out.txt | 19-May-2024 00:37 | 4.9K | ||
buildbin-summary.dcf | 19-May-2024 00:37 | 566 | ||