Name | Last modified | Size | Description | |
---|---|---|---|---|
Parent Directory | - | |||
buildsrc-out.txt | 10-May-2024 00:40 | 871 | ||
buildsrc-summary.dcf | 10-May-2024 00:40 | 446 | ||
checksrc-out.txt | 10-May-2024 00:40 | 4.7K | ||
checksrc-summary.dcf | 10-May-2024 00:40 | 475 | ||
install-out.txt | 10-May-2024 00:40 | 2.3K | ||
install-summary.dcf | 10-May-2024 00:40 | 282 | ||