Name | Last modified | Size | Description | |
---|---|---|---|---|
Parent Directory | - | |||
buildbin-summary.dcf | 12-Jun-2024 03:43 | 566 | ||
buildbin-out.txt | 12-Jun-2024 03:43 | 4.9K | ||
checksrc-summary.dcf | 12-Jun-2024 03:43 | 468 | ||
checksrc-out.txt | 12-Jun-2024 03:43 | 4.7K | ||
buildsrc-out.txt | 12-Jun-2024 03:43 | 870 | ||
buildsrc-summary.dcf | 12-Jun-2024 03:43 | 445 | ||
install-summary.dcf | 12-Jun-2024 03:43 | 281 | ||
install-out.txt | 12-Jun-2024 03:43 | 2.7K | ||