Index of /checkResults/release/bioc-LATEST/GenomicSuperSignature/raw-results/palomino3

[ICO]NameLast modifiedSizeDescription

[DIR]Parent Directory  -  
[TXT]buildbin-out.txt24-Sep-2023 00:35 1.2K 
[   ]buildbin-summary.dcf24-Sep-2023 00:35 596  
[TXT]buildsrc-out.txt24-Sep-2023 00:35 908  
[   ]buildsrc-summary.dcf24-Sep-2023 00:35 506  
[TXT]checksrc-out.txt24-Sep-2023 00:35 4.3K 
[   ]checksrc-summary.dcf24-Sep-2023 00:35 507  
[TXT]install-out.txt24-Sep-2023 00:35 1.0K 
[   ]install-summary.dcf24-Sep-2023 00:35 295