Back to Multiple platform build/check report for BioC 3.14
ABCDEF[G]HIJKLMNOPQRSTUVWXYZ

This page was generated on 2021-12-01 17:17:50 -0500 (Wed, 01 Dec 2021).

INSTALL results for GenomicScores on tokay2

To the developers/maintainers of the GenomicScores package:
- Please allow up to 24 hours (and sometimes 48 hours) for your latest push to git@git.bioconductor.org:packages/GenomicScores.git to
reflect on this report. See How and When does the builder pull? When will my changes propagate? here for more information.
- Make sure to use the following settings in order to reproduce any error or warning you see on this page.

raw results

Package 757/2083HostnameOS / ArchINSTALLBUILDCHECKBUILD BIN
GenomicScores 2.6.0  (landing page)
Robert Castelo
Snapshot Date: 2021-11-30 04:15:05 -0500 (Tue, 30 Nov 2021)
git_url: https://git.bioconductor.org/packages/GenomicScores
git_branch: RELEASE_3_14
git_last_commit: e76213e
git_last_commit_date: 2021-10-26 12:34:39 -0500 (Tue, 26 Oct 2021)
nebbiolo2Linux (Ubuntu 20.04.3 LTS) / x86_64  OK    OK    OK  UNNEEDED, same version is already published
tokay2Windows Server 2012 R2 Standard / x64  OK    OK    OK    OK  UNNEEDED, same version is already published
machv2macOS 10.14.6 Mojave / x86_64  OK    OK    OK    OK  UNNEEDED, same version is already published

Summary

Package: GenomicScores
Version: 2.6.0
Command: C:\cygwin\bin\curl.exe -O http://155.52.207.166/BBS/3.14/bioc/src/contrib/GenomicScores_2.6.0.tar.gz && rm -rf GenomicScores.buildbin-libdir && mkdir GenomicScores.buildbin-libdir && C:\Users\biocbuild\bbs-3.14-bioc\R\bin\R.exe CMD INSTALL --merge-multiarch --build --library=GenomicScores.buildbin-libdir GenomicScores_2.6.0.tar.gz && C:\Users\biocbuild\bbs-3.14-bioc\R\bin\R.exe CMD INSTALL GenomicScores_2.6.0.zip && rm GenomicScores_2.6.0.tar.gz GenomicScores_2.6.0.zip
StartedAt: 2021-11-30 07:45:48 -0500 (Tue, 30 Nov 2021)
EndedAt: 2021-11-30 07:46:43 -0500 (Tue, 30 Nov 2021)
EllapsedTime: 55.2 seconds
RetCode: 0
Status:   OK  

Command output

##############################################################################
##############################################################################
###
### Running command:
###
###   C:\cygwin\bin\curl.exe -O http://155.52.207.166/BBS/3.14/bioc/src/contrib/GenomicScores_2.6.0.tar.gz && rm -rf GenomicScores.buildbin-libdir && mkdir GenomicScores.buildbin-libdir && C:\Users\biocbuild\bbs-3.14-bioc\R\bin\R.exe CMD INSTALL --merge-multiarch --build --library=GenomicScores.buildbin-libdir GenomicScores_2.6.0.tar.gz && C:\Users\biocbuild\bbs-3.14-bioc\R\bin\R.exe CMD INSTALL GenomicScores_2.6.0.zip && rm GenomicScores_2.6.0.tar.gz GenomicScores_2.6.0.zip
###
##############################################################################
##############################################################################


  % Total    % Received % Xferd  Average Speed   Time    Time     Time  Current
                                 Dload  Upload   Total   Spent    Left  Speed

  0     0    0     0    0     0      0      0 --:--:-- --:--:-- --:--:--     0
 47 1877k   47  896k    0     0  1627k      0  0:00:01 --:--:--  0:00:01 1627k
100 1877k  100 1877k    0     0  1958k      0 --:--:-- --:--:-- --:--:-- 1958k

install for i386

* installing *source* package 'GenomicScores' ...
** using staged installation
** R
** inst
** byte-compile and prepare package for lazy loading
** help
*** installing help indices
  converting help for package 'GenomicScores'
    finding HTML links ... done
    GScores-class                           html  
    finding level-2 HTML links ... done

    GenomicScores-defunct                   html  
    GenomicScores-deprecated                html  
    availableGScores                        html  
    gscores                                 html  
REDIRECT:topic	 Previous alias or file overwritten by alias: C:/Users/biocbuild/bbs-3.14-bioc/meat/GenomicScores.buildbin-libdir/00LOCK-GenomicScores/00new/GenomicScores/help/gscores.html
    igscores                                html  
    makeGScoresPackage                      html  
    rgscores                                html  
** building package indices
** installing vignettes
** testing if installed package can be loaded from temporary location
** testing if installed package can be loaded from final location
** testing if installed package keeps a record of temporary installation path

install for x64

* installing *source* package 'GenomicScores' ...
** testing if installed package can be loaded
* MD5 sums
packaged installation of 'GenomicScores' as GenomicScores_2.6.0.zip
* DONE (GenomicScores)
* installing to library 'C:/Users/biocbuild/bbs-3.14-bioc/R/library'
package 'GenomicScores' successfully unpacked and MD5 sums checked