Name | Last modified | Size | Description | |
---|---|---|---|---|
Parent Directory | - | |||
buildbin-out.txt | 29-Jun-2024 06:41 | 1.2K | ||
buildbin-summary.dcf | 29-Jun-2024 06:41 | 580 | ||
buildsrc-out.txt | 29-Jun-2024 06:41 | 954 | ||
buildsrc-summary.dcf | 29-Jun-2024 06:41 | 496 | ||
checksrc-out.txt | 29-Jun-2024 06:41 | 3.2K | ||
checksrc-summary.dcf | 29-Jun-2024 06:41 | 491 | ||
install-out.txt | 29-Jun-2024 06:41 | 1.0K | ||
install-summary.dcf | 29-Jun-2024 06:41 | 290 | ||