Name | Last modified | Size | Description | |
---|---|---|---|---|
Parent Directory | - | |||
buildsrc-out.txt | 05-Jun-2024 03:10 | 880 | ||
buildsrc-summary.dcf | 05-Jun-2024 03:10 | 451 | ||
checksrc-out.txt | 05-Jun-2024 03:10 | 4.2K | ||
checksrc-summary.dcf | 05-Jun-2024 03:10 | 458 | ||
install-out.txt | 05-Jun-2024 03:10 | 2.1K | ||
install-summary.dcf | 05-Jun-2024 03:10 | 281 | ||