Name | Last modified | Size | Description | |
---|---|---|---|---|
Parent Directory | - | |||
install-summary.dcf | 12-May-2024 00:37 | 301 | ||
buildsrc-summary.dcf | 12-May-2024 00:37 | 475 | ||
checksrc-summary.dcf | 12-May-2024 00:37 | 507 | ||
buildbin-summary.dcf | 12-May-2024 00:37 | 625 | ||
buildsrc-out.txt | 12-May-2024 00:37 | 943 | ||
install-out.txt | 12-May-2024 00:37 | 1.0K | ||
buildbin-out.txt | 12-May-2024 00:37 | 1.3K | ||
checksrc-out.txt | 12-May-2024 00:37 | 3.2K | ||