Index of /checkResults/release/bioc-LATEST/GenProSeq/raw-results
Name
Last modified
Size
Description
Parent Directory
-
kunpeng2/
10-May-2024 00:40
-
lconway/
31-May-2024 00:35
-
merida1/
05-Mar-2024 01:39
-
nebbiolo1/
31-May-2024 00:35
-
palomino3/
23-May-2024 00:35
-
info.dcf
31-May-2024 00:34
272